BEGIN:VCALENDAR
VERSION:2.0
PRODID:-//Wicked Good Treats - ECPv6.15.20//NONSGML v1.0//EN
CALSCALE:GREGORIAN
METHOD:PUBLISH
X-ORIGINAL-URL:https://www.wickedgoodtreatsbyelaine.com
X-WR-CALDESC:Events for Wicked Good Treats
REFRESH-INTERVAL;VALUE=DURATION:PT1H
X-Robots-Tag:noindex
X-PUBLISHED-TTL:PT1H
BEGIN:VTIMEZONE
TZID:UTC
BEGIN:STANDARD
TZOFFSETFROM:+0000
TZOFFSETTO:+0000
TZNAME:UTC
DTSTART:20250101T000000
END:STANDARD
END:VTIMEZONE
BEGIN:VEVENT
DTSTART;VALUE=DATE:20260325
DTEND;VALUE=DATE:20260326
DTSTAMP:20260422T060801
CREATED:20260227T163414Z
LAST-MODIFIED:20260227T163414Z
UID:4398-1774396800-1774483199@www.wickedgoodtreatsbyelaine.com
SUMMARY:Private Corporate Event
DESCRIPTION:
URL:https://www.wickedgoodtreatsbyelaine.com/event/private-corporate-event-2/
LOCATION:MA
CATEGORIES:Featured Vendor
END:VEVENT
BEGIN:VEVENT
DTSTART;TZID=UTC:20260330T090000
DTEND;TZID=UTC:20260330T143000
DTSTAMP:20260422T060801
CREATED:20260227T163647Z
LAST-MODIFIED:20260227T163647Z
UID:4402-1774861200-1774881000@www.wickedgoodtreatsbyelaine.com
SUMMARY:Chocolate Day at Wing Hospital
DESCRIPTION:We are proud to support the Wing Auxiliary and its programs.  Come by for a variety of Easter gifts and goodies.  Open to the public.
URL:https://www.wickedgoodtreatsbyelaine.com/event/chocolate-day-at-wing-hospital-2/
LOCATION:Baystate Wing Hospital\, first floor across from the Gift Shop\, 40 Wright Street\, Palmer\, MA
CATEGORIES:Featured Vendor
END:VEVENT
BEGIN:VEVENT
DTSTART;VALUE=DATE:20260331
DTEND;VALUE=DATE:20260401
DTSTAMP:20260422T060801
CREATED:20260227T163459Z
LAST-MODIFIED:20260227T163459Z
UID:4400-1774915200-1775001599@www.wickedgoodtreatsbyelaine.com
SUMMARY:Private Corporate Event
DESCRIPTION:
URL:https://www.wickedgoodtreatsbyelaine.com/event/private-corporate-event-3/
LOCATION:MA
CATEGORIES:Featured Vendor
END:VEVENT
END:VCALENDAR