BEGIN:VCALENDAR
VERSION:2.0
PRODID:-//Wicked Good Treats - ECPv6.15.20//NONSGML v1.0//EN
CALSCALE:GREGORIAN
METHOD:PUBLISH
X-ORIGINAL-URL:https://www.wickedgoodtreatsbyelaine.com
X-WR-CALDESC:Events for Wicked Good Treats
REFRESH-INTERVAL;VALUE=DURATION:PT1H
X-Robots-Tag:noindex
X-PUBLISHED-TTL:PT1H
BEGIN:VTIMEZONE
TZID:UTC
BEGIN:STANDARD
TZOFFSETFROM:+0000
TZOFFSETTO:+0000
TZNAME:UTC
DTSTART:20170101T000000
END:STANDARD
END:VTIMEZONE
BEGIN:VEVENT
DTSTART;TZID=UTC:20230424T100000
DTEND;TZID=UTC:20230424T123000
DTSTAMP:20260426T030941
CREATED:20230418T121947Z
LAST-MODIFIED:20230418T121947Z
UID:3262-1682330400-1682339400@www.wickedgoodtreatsbyelaine.com
SUMMARY:Private Party Catering
DESCRIPTION:
URL:https://www.wickedgoodtreatsbyelaine.com/event/private-party-catering/
CATEGORIES:Private Party
ATTACH;FMTTYPE=image/jpeg:https://www.wickedgoodtreatsbyelaine.com/wp-content/uploads/2020/03/Cupcakes-frozen.jpg
END:VEVENT
BEGIN:VEVENT
DTSTART;TZID=UTC:20221008T110000
DTEND;TZID=UTC:20221008T150000
DTSTAMP:20260426T030941
CREATED:20220828T202848Z
LAST-MODIFIED:20220828T202848Z
UID:3126-1665226800-1665241200@www.wickedgoodtreatsbyelaine.com
SUMMARY:Private Party
DESCRIPTION:I’m catering for a private party today.  Do you have an event coming up?  Ask me to help make it even sweeter!
URL:https://www.wickedgoodtreatsbyelaine.com/event/private-party/
CATEGORIES:Private Party
END:VEVENT
BEGIN:VEVENT
DTSTART;TZID=UTC:20190629T080000
DTEND;TZID=UTC:20190629T170000
DTSTAMP:20260426T030941
CREATED:20190419T184751Z
LAST-MODIFIED:20190419T184751Z
UID:2745-1561795200-1561827600@www.wickedgoodtreatsbyelaine.com
SUMMARY:Baby Shower
DESCRIPTION:
URL:https://www.wickedgoodtreatsbyelaine.com/event/baby-shower/
LOCATION:Springfield Country Club\, 1375 Elm Street\, West Springfield\, MA
CATEGORIES:Private Party
END:VEVENT
BEGIN:VEVENT
DTSTART;TZID=UTC:20190517T080000
DTEND;TZID=UTC:20190517T170000
DTSTAMP:20260426T030941
CREATED:20190414T121434Z
LAST-MODIFIED:20190414T121434Z
UID:2692-1558080000-1558112400@www.wickedgoodtreatsbyelaine.com
SUMMARY:Pathfinder Regional HS
DESCRIPTION:
URL:https://www.wickedgoodtreatsbyelaine.com/event/pathfinder-regional-hs/
CATEGORIES:Private Party
END:VEVENT
BEGIN:VEVENT
DTSTART;TZID=UTC:20190505T090000
DTEND;TZID=UTC:20190505T110000
DTSTAMP:20260426T030941
CREATED:20190414T120345Z
LAST-MODIFIED:20190414T120345Z
UID:2681-1557046800-1557054000@www.wickedgoodtreatsbyelaine.com
SUMMARY:Bridal Shower
DESCRIPTION:
URL:https://www.wickedgoodtreatsbyelaine.com/event/bridal-shower/
CATEGORIES:Private Party
END:VEVENT
BEGIN:VEVENT
DTSTART;VALUE=DATE:20190125
DTEND;VALUE=DATE:20190127
DTSTAMP:20260426T030941
CREATED:20181231T215604Z
LAST-MODIFIED:20181231T215604Z
UID:2569-1548374400-1548547199@www.wickedgoodtreatsbyelaine.com
SUMMARY:Snowflake Scrap
DESCRIPTION:
URL:https://www.wickedgoodtreatsbyelaine.com/event/snowflake-scrap/
LOCATION:MA
CATEGORIES:Private Party
END:VEVENT
BEGIN:VEVENT
DTSTART;VALUE=DATE:20181230
DTEND;VALUE=DATE:20181231
DTSTAMP:20260426T030941
CREATED:20181121T002816Z
LAST-MODIFIED:20181121T002816Z
UID:2531-1546128000-1546214399@www.wickedgoodtreatsbyelaine.com
SUMMARY:Wedding Reception
DESCRIPTION:
URL:https://www.wickedgoodtreatsbyelaine.com/event/wedding-reception/
LOCATION:Carriage House at Barney Estates\, Forest Park\, Springfield\, MA
CATEGORIES:Private Party
END:VEVENT
BEGIN:VEVENT
DTSTART;VALUE=DATE:20180527
DTEND;VALUE=DATE:20180528
DTSTAMP:20260426T030941
CREATED:20180510T222053Z
LAST-MODIFIED:20180510T222053Z
UID:2401-1527379200-1527465599@www.wickedgoodtreatsbyelaine.com
SUMMARY:Vivianne's Baptism
DESCRIPTION:
URL:https://www.wickedgoodtreatsbyelaine.com/event/viviannes-baptism/
CATEGORIES:Private Party
END:VEVENT
BEGIN:VEVENT
DTSTART;VALUE=DATE:20180526
DTEND;VALUE=DATE:20180527
DTSTAMP:20260426T030941
CREATED:20180510T222003Z
LAST-MODIFIED:20180510T222003Z
UID:2399-1527292800-1527379199@www.wickedgoodtreatsbyelaine.com
SUMMARY:Jess & Alex's Wedding
DESCRIPTION:
URL:https://www.wickedgoodtreatsbyelaine.com/event/jess-alexs-wedding/
CATEGORIES:Private Party
END:VEVENT
BEGIN:VEVENT
DTSTART;TZID=UTC:20180410T080000
DTEND;TZID=UTC:20180410T170000
DTSTAMP:20260426T030941
CREATED:20180305T162503Z
LAST-MODIFIED:20180305T162522Z
UID:2248-1523347200-1523379600@www.wickedgoodtreatsbyelaine.com
SUMMARY:Wine and Chocolate Tasting
DESCRIPTION:
URL:https://www.wickedgoodtreatsbyelaine.com/event/wine-and-chocolate-tasting/
CATEGORIES:Private Party
END:VEVENT
BEGIN:VEVENT
DTSTART;TZID=UTC:20180209T190000
DTEND;TZID=UTC:20180209T190000
DTSTAMP:20260426T030941
CREATED:20180126T124502Z
LAST-MODIFIED:20180126T124502Z
UID:2159-1518202800-1518202800@www.wickedgoodtreatsbyelaine.com
SUMMARY:Birthday Party
DESCRIPTION:A private party featuring an elegant dessert buffet.
URL:https://www.wickedgoodtreatsbyelaine.com/event/birthday-party/
CATEGORIES:Private Party
END:VEVENT
END:VCALENDAR