BEGIN:VCALENDAR
VERSION:2.0
PRODID:-//Wicked Good Treats - ECPv6.15.20//NONSGML v1.0//EN
CALSCALE:GREGORIAN
METHOD:PUBLISH
X-WR-CALNAME:Wicked Good Treats
X-ORIGINAL-URL:https://www.wickedgoodtreatsbyelaine.com
X-WR-CALDESC:Events for Wicked Good Treats
REFRESH-INTERVAL;VALUE=DURATION:PT1H
X-Robots-Tag:noindex
X-PUBLISHED-TTL:PT1H
BEGIN:VTIMEZONE
TZID:UTC
BEGIN:STANDARD
TZOFFSETFROM:+0000
TZOFFSETTO:+0000
TZNAME:UTC
DTSTART:20160101T000000
END:STANDARD
END:VTIMEZONE
BEGIN:VEVENT
DTSTART;TZID=UTC:20250213T090000
DTEND;TZID=UTC:20250213T153000
DTSTAMP:20260426T013146
CREATED:20250129T000140Z
LAST-MODIFIED:20250129T000140Z
UID:4090-1739437200-1739460600@www.wickedgoodtreatsbyelaine.com
SUMMARY:Chocolate Day at Wing Hospital
DESCRIPTION:One of our favorite venues\, we love supporting our local hospital.  We are stocked with everything you need for the sweetest day ever!
URL:https://www.wickedgoodtreatsbyelaine.com/event/chocolate-day-at-wing-hospital/
LOCATION:Baystate Wing Hospital\, first floor across from the Gift Shop\, 40 Wright Street\, Palmer\, MA
CATEGORIES:Featured Vendor,Holiday
ATTACH;FMTTYPE=image/jpeg:https://www.wickedgoodtreatsbyelaine.com/wp-content/uploads/2024/02/IMG_0846-scaled-e1738108866524.jpeg
END:VEVENT
BEGIN:VEVENT
DTSTART;TZID=UTC:20250206T113000
DTEND;TZID=UTC:20250206T140000
DTSTAMP:20260426T013146
CREATED:20250128T234449Z
LAST-MODIFIED:20250128T234449Z
UID:4081-1738841400-1738850400@www.wickedgoodtreatsbyelaine.com
SUMMARY:Valentine's Shopping Day
DESCRIPTION:Get a head start on your gift giving for Valentine’s Day!  Stop in and see all the talented makers ready to help you.
URL:https://www.wickedgoodtreatsbyelaine.com/event/valentines-shopping-day/
LOCATION:City Walks Cafe\, Tower Square\, 1500 Main Street\, Springfield\, Massachusetts
CATEGORIES:Art/Craft Fair,Holiday
ATTACH;FMTTYPE=image/jpeg:https://www.wickedgoodtreatsbyelaine.com/wp-content/uploads/2024/02/IMG_0823-scaled-e1738107860300.jpeg
END:VEVENT
BEGIN:VEVENT
DTSTART;TZID=UTC:20221210T090000
DTEND;TZID=UTC:20221210T150000
DTSTAMP:20260426T013146
CREATED:20221106T133017Z
LAST-MODIFIED:20221106T133017Z
UID:3183-1670662800-1670684400@www.wickedgoodtreatsbyelaine.com
SUMMARY:Holly Fair
DESCRIPTION:Wilbraham’s best holiday shopping venue.  We are prepared to make your holidays stress free.
URL:https://www.wickedgoodtreatsbyelaine.com/event/holly-fair-3/
LOCATION:Wilbraham United Church\, Main Street\, Wilbraham\,\, MA\, United States
CATEGORIES:Art/Craft Fair,Community Event,Holiday
END:VEVENT
BEGIN:VEVENT
DTSTART;TZID=UTC:20221203T090000
DTEND;TZID=UTC:20221203T150000
DTSTAMP:20260426T013146
CREATED:20221106T132305Z
LAST-MODIFIED:20221106T132305Z
UID:3178-1670058000-1670079600@www.wickedgoodtreatsbyelaine.com
SUMMARY:Annual Art & Craft Fair
DESCRIPTION:Get all your holiday shopping done while you shop local!
URL:https://www.wickedgoodtreatsbyelaine.com/event/annual-art-craft-fair/
LOCATION:St. Mary’s Parish\, Hopkins Place\, Longmeadow\, MA\, United States
CATEGORIES:Art/Craft Fair,Holiday
END:VEVENT
BEGIN:VEVENT
DTSTART;VALUE=DATE:20221119
DTEND;VALUE=DATE:20221121
DTSTAMP:20260426T013146
CREATED:20221106T131933Z
LAST-MODIFIED:20221106T131933Z
UID:3176-1668816000-1668988799@www.wickedgoodtreatsbyelaine.com
SUMMARY:Harvest Festival for Thanksgiving
DESCRIPTION:Come to Hardwick for everything you need to prepare a Thanksgiving Dinner\, or get a perfect hostess gift.   In addition to our chocolates\, caramel apples\, truffles and fudge\, we are bringing jam\, pies\, breads and lots of bakery treats.    This event is open  11 a.m. to 4 p.m.
URL:https://www.wickedgoodtreatsbyelaine.com/event/harvest-festival-for-thanksgiving/
LOCATION:Hardwick Winery\, 3305 Greenwich Road\, Hardwick\, MA\, United States
CATEGORIES:Art/Craft Fair,Farmers Market,Holiday
END:VEVENT
BEGIN:VEVENT
DTSTART;VALUE=DATE:20190706
DTEND;VALUE=DATE:20190707
DTSTAMP:20260426T013146
CREATED:20190521T231913Z
LAST-MODIFIED:20190521T231913Z
UID:2772-1562371200-1562457599@www.wickedgoodtreatsbyelaine.com
SUMMARY:East Brookfield Independence Day Celebration
DESCRIPTION:Fun\, food\, festivities & fireworks – with amazing Wicked Good Treats.  A family friendly event.
URL:https://www.wickedgoodtreatsbyelaine.com/event/east-brookfield-independence-day-celebration/
LOCATION:Connie Mack Field\, 122 Connie Mack Dr\, East Brookfield\, MA\, 01515
CATEGORIES:Holiday
END:VEVENT
BEGIN:VEVENT
DTSTART;VALUE=DATE:20180520
DTEND;VALUE=DATE:20180522
DTSTAMP:20260426T013146
CREATED:20180305T171418Z
LAST-MODIFIED:20180305T171418Z
UID:2282-1526774400-1526947199@www.wickedgoodtreatsbyelaine.com
SUMMARY:Shavout
DESCRIPTION:Make your holiday celebrations sweeter with caramels or hand dipped chocolate truffles.
URL:https://www.wickedgoodtreatsbyelaine.com/event/shavout/
LOCATION:MA
CATEGORIES:Holiday
END:VEVENT
BEGIN:VEVENT
DTSTART;VALUE=DATE:20180330
DTEND;VALUE=DATE:20180331
DTSTAMP:20260426T013146
CREATED:20171226T185944Z
LAST-MODIFIED:20171226T185944Z
UID:2058-1522368000-1522454399@www.wickedgoodtreatsbyelaine.com
SUMMARY:Passover Seder First Night
DESCRIPTION:Begins at sundown
URL:https://www.wickedgoodtreatsbyelaine.com/event/passover-seder-first-night/
LOCATION:MA
CATEGORIES:Holiday
END:VEVENT
BEGIN:VEVENT
DTSTART;TZID=UTC:20180214T110000
DTEND;TZID=UTC:20180214T140000
DTSTAMP:20260426T013146
CREATED:20180112T221535Z
LAST-MODIFIED:20180112T221535Z
UID:2120-1518606000-1518616800@www.wickedgoodtreatsbyelaine.com
SUMMARY:Valentines Day Chocolate Event
DESCRIPTION:Gifts and chocolates galore!
URL:https://www.wickedgoodtreatsbyelaine.com/event/valentines-day-chocolate-event/
LOCATION:City Walks Cafe\, Tower Square\, 1500 Main Street\, Springfield\, Massachusetts
CATEGORIES:Art/Craft Fair,Holiday
END:VEVENT
BEGIN:VEVENT
DTSTART;VALUE=DATE:20180131
DTEND;VALUE=DATE:20180201
DTSTAMP:20260426T013146
CREATED:20171226T190238Z
LAST-MODIFIED:20171226T190238Z
UID:2064-1517356800-1517443199@www.wickedgoodtreatsbyelaine.com
SUMMARY:Tu Bishevat
DESCRIPTION:Birthday of the Trees
URL:https://www.wickedgoodtreatsbyelaine.com/event/tu-bishevat/
LOCATION:MA
CATEGORIES:Holiday
END:VEVENT
BEGIN:VEVENT
DTSTART;VALUE=DATE:20171226
DTEND;VALUE=DATE:20171227
DTSTAMP:20260426T013146
CREATED:20171226T190110Z
LAST-MODIFIED:20171226T190110Z
UID:2062-1514246400-1514332799@www.wickedgoodtreatsbyelaine.com
SUMMARY:Passover Seder Second Night
DESCRIPTION:
URL:https://www.wickedgoodtreatsbyelaine.com/event/passover-seder-second-night/
LOCATION:MA
CATEGORIES:Holiday
END:VEVENT
END:VCALENDAR