BEGIN:VCALENDAR
VERSION:2.0
PRODID:-//Wicked Good Treats - ECPv6.15.20//NONSGML v1.0//EN
CALSCALE:GREGORIAN
METHOD:PUBLISH
X-ORIGINAL-URL:https://www.wickedgoodtreatsbyelaine.com
X-WR-CALDESC:Events for Wicked Good Treats
REFRESH-INTERVAL;VALUE=DURATION:PT1H
X-Robots-Tag:noindex
X-PUBLISHED-TTL:PT1H
BEGIN:VTIMEZONE
TZID:UTC
BEGIN:STANDARD
TZOFFSETFROM:+0000
TZOFFSETTO:+0000
TZNAME:UTC
DTSTART:20210101T000000
END:STANDARD
END:VTIMEZONE
BEGIN:VEVENT
DTSTART;VALUE=DATE:20221119
DTEND;VALUE=DATE:20221121
DTSTAMP:20260421T033242
CREATED:20221106T131933Z
LAST-MODIFIED:20221106T131933Z
UID:3176-1668816000-1668988799@www.wickedgoodtreatsbyelaine.com
SUMMARY:Harvest Festival for Thanksgiving
DESCRIPTION:Come to Hardwick for everything you need to prepare a Thanksgiving Dinner\, or get a perfect hostess gift.   In addition to our chocolates\, caramel apples\, truffles and fudge\, we are bringing jam\, pies\, breads and lots of bakery treats.    This event is open  11 a.m. to 4 p.m.
URL:https://www.wickedgoodtreatsbyelaine.com/event/harvest-festival-for-thanksgiving/
LOCATION:Hardwick Winery\, 3305 Greenwich Road\, Hardwick\, MA\, United States
CATEGORIES:Art/Craft Fair,Farmers Market,Holiday
END:VEVENT
END:VCALENDAR