BEGIN:VCALENDAR
VERSION:2.0
PRODID:-//Wicked Good Treats - ECPv6.15.20//NONSGML v1.0//EN
CALSCALE:GREGORIAN
METHOD:PUBLISH
X-WR-CALNAME:Wicked Good Treats
X-ORIGINAL-URL:https://www.wickedgoodtreatsbyelaine.com
X-WR-CALDESC:Events for Wicked Good Treats
REFRESH-INTERVAL;VALUE=DURATION:PT1H
X-Robots-Tag:noindex
X-PUBLISHED-TTL:PT1H
BEGIN:VTIMEZONE
TZID:UTC
BEGIN:STANDARD
TZOFFSETFROM:+0000
TZOFFSETTO:+0000
TZNAME:UTC
DTSTART:20230101T000000
END:STANDARD
END:VTIMEZONE
BEGIN:VEVENT
DTSTART;TZID=UTC:20250618T090000
DTEND;TZID=UTC:20250618T150000
DTSTAMP:20260425T222704
CREATED:20250422T172347Z
LAST-MODIFIED:20250507T171540Z
UID:4201-1750237200-1750258800@www.wickedgoodtreatsbyelaine.com
SUMMARY:Chocolate Day at Baystate Noble Hospital
DESCRIPTION:Come and see the beautiful selection of chocolates\, cookies\, sweets and breads for your shopping pleasure.  We are thrilled to partner with the Volunteer Program at BNH.
URL:https://www.wickedgoodtreatsbyelaine.com/event/chocolate-day-at-baystate-noble-hospital-3/
LOCATION:Baystate Noble Hospital\, 115 West Silver Street\, Westfield\, MA\, United States
CATEGORIES:Featured Vendor
ATTACH;FMTTYPE=image/jpeg:https://www.wickedgoodtreatsbyelaine.com/wp-content/uploads/2024/09/Mayo-2023.jpg
END:VEVENT
BEGIN:VEVENT
DTSTART;TZID=UTC:20250617T090000
DTEND;TZID=UTC:20250617T150000
DTSTAMP:20260425T222704
CREATED:20250422T173152Z
LAST-MODIFIED:20250422T173152Z
UID:4207-1750150800-1750172400@www.wickedgoodtreatsbyelaine.com
SUMMARY:Chocolate Day for the Wing Auxiliary
DESCRIPTION:Our month wouldn’t be complete without a day to support the Wing Auxiliary & Gift Shop.  We are stocked with all your favorites and a few new surprises.  Come and support the Auxiliary and Wicked Good Treats\, it’s a win-win.
URL:https://www.wickedgoodtreatsbyelaine.com/event/chocolate-day-for-the-wing-auxiliary/
LOCATION:Baystate Wing Hospital\, first floor across from the Gift Shop\, 40 Wright Street\, Palmer\, MA
CATEGORIES:Featured Vendor
ATTACH;FMTTYPE=image/jpeg:https://www.wickedgoodtreatsbyelaine.com/wp-content/uploads/2024/02/IMG_0846-scaled-e1738108866524.jpeg
END:VEVENT
BEGIN:VEVENT
DTSTART;TZID=UTC:20250605T180000
DTEND;TZID=UTC:20250605T200000
DTSTAMP:20260425T222704
CREATED:20250507T174120Z
LAST-MODIFIED:20250507T174120Z
UID:4211-1749146400-1749153600@www.wickedgoodtreatsbyelaine.com
SUMMARY:Wine and Chocolate Truffle Pairing
DESCRIPTION:Unlock the world of wine and food without the need for expertise. Let us guide you through every sip and bite. Our approach to enjoying and learning about wine is anything but intimidating—it’s all about fun\, relaxation\, and exploration!  Your Wine Educator will present 5 wines from the Broken Creek Vineyard portfolio perfectly paired with custom artisan chocolate truffles from Wicked Good Treats\, as well as teach the fundamentals of wine and food pairing.
URL:https://www.wickedgoodtreatsbyelaine.com/event/wine-and-chocolate-truffle-pairing/
LOCATION:Broken Creek Winery\, 614 South Street\, Shrewsbury\, MA\, United States
CATEGORIES:Educational Event,Featured Vendor
ATTACH;FMTTYPE=image/jpeg:https://www.wickedgoodtreatsbyelaine.com/wp-content/uploads/2025/05/truffle-board.jpg
END:VEVENT
BEGIN:VEVENT
DTSTART;TZID=UTC:20250528T113000
DTEND;TZID=UTC:20250528T143000
DTSTAMP:20260425T222704
CREATED:20250422T163855Z
LAST-MODIFIED:20250422T163855Z
UID:4174-1748431800-1748442600@www.wickedgoodtreatsbyelaine.com
SUMMARY:Outside the Box Pop Up
DESCRIPTION:Downtown folks\, stop by for a full selection of chocolates\, fudge\, caramels\, and sweets to make you smile.  It’s always a great day downtown.
URL:https://www.wickedgoodtreatsbyelaine.com/event/outside-the-box-pop-up-2/
LOCATION:Outside the Box Giftshop\, Tower Square - First Floor\, 1500 Main Street\, Springfield\, MA\, 01115\, United States
CATEGORIES:Featured Vendor
ATTACH;FMTTYPE=image/jpeg:https://www.wickedgoodtreatsbyelaine.com/wp-content/uploads/2023/12/IMG_0668.jpeg
END:VEVENT
BEGIN:VEVENT
DTSTART;TZID=UTC:20250513T090000
DTEND;TZID=UTC:20250513T150000
DTSTAMP:20260425T222704
CREATED:20250422T163246Z
LAST-MODIFIED:20250422T163246Z
UID:4171-1747126800-1747148400@www.wickedgoodtreatsbyelaine.com
SUMMARY:Chocolate Day at Wing Auxiliary
DESCRIPTION:We love to support our local hospital.  Stop by for a win-win\, support the Wing Auxiliary and Gift Shop and get some amazing chocolates and baked goods.
URL:https://www.wickedgoodtreatsbyelaine.com/event/chocolate-day-at-wing-auxiliary/
LOCATION:Baystate Wing Hospital\, first floor across from the Gift Shop\, 40 Wright Street\, Palmer\, MA
CATEGORIES:Featured Vendor
ATTACH;FMTTYPE=image/jpeg:https://www.wickedgoodtreatsbyelaine.com/wp-content/uploads/2023/12/IMG_0667.jpeg
END:VEVENT
BEGIN:VEVENT
DTSTART;TZID=UTC:20250426T163000
DTEND;TZID=UTC:20250426T190000
DTSTAMP:20260425T222704
CREATED:20250313T230737Z
LAST-MODIFIED:20250313T230737Z
UID:4130-1745685000-1745694000@www.wickedgoodtreatsbyelaine.com
SUMMARY:Wine and Food Tasting
DESCRIPTION:Unico hosts an evening of sampling and sipping!   We are thrilled to bring our mobile chocolate shop and offer chocolate pairings with your beverage.  This is too much fun to miss!
URL:https://www.wickedgoodtreatsbyelaine.com/event/wine-and-food-tasting/
LOCATION:Penthouse 650\, Tower Square\, 1500 Main Street\, Springfield\, MA\, 01115\, United States
CATEGORIES:Community Event,Featured Vendor
ATTACH;FMTTYPE=image/jpeg:https://www.wickedgoodtreatsbyelaine.com/wp-content/uploads/2020/03/truffle-board.jpg
END:VEVENT
BEGIN:VEVENT
DTSTART;TZID=UTC:20250416T080000
DTEND;TZID=UTC:20250416T140000
DTSTAMP:20260425T222704
CREATED:20250313T224844Z
LAST-MODIFIED:20250313T224844Z
UID:4124-1744790400-1744812000@www.wickedgoodtreatsbyelaine.com
SUMMARY:Aetna Insurance Company
DESCRIPTION:Hello Hartford!  We are back with a huge assortment of Easter goodies\, baskets\, chocolates\, bakery items and more.  Come check our “traveling shop” set up outside the cafeteria.
URL:https://www.wickedgoodtreatsbyelaine.com/event/aetna-insurance-company/
LOCATION:Aetna Insurance\, 151 Farmington Avenue\, Hartford\, CT
CATEGORIES:Featured Vendor
ATTACH;FMTTYPE=image/jpeg:https://www.wickedgoodtreatsbyelaine.com/wp-content/uploads/2023/02/apple-pic-2.jpg
END:VEVENT
BEGIN:VEVENT
DTSTART;TZID=UTC:20250415T110000
DTEND;TZID=UTC:20250415T140000
DTSTAMP:20260425T222704
CREATED:20250313T224535Z
LAST-MODIFIED:20250313T224535Z
UID:4122-1744714800-1744725600@www.wickedgoodtreatsbyelaine.com
SUMMARY:Pop Up at Outside the Box Gift Shop
DESCRIPTION:Back for our monthly in person pop up with all the Easter baskets and treats you need along with your favorite sweeties and some new items.  Come check us out at lunchtime!
URL:https://www.wickedgoodtreatsbyelaine.com/event/pop-up-at-outside-the-box-gift-shop/
LOCATION:Outside the Box Giftshop\, Tower Square - First Floor\, 1500 Main Street\, Springfield\, MA\, 01115\, United States
CATEGORIES:Featured Vendor
ATTACH;FMTTYPE=image/jpeg:https://www.wickedgoodtreatsbyelaine.com/wp-content/uploads/2018/03/Coconut-birdnests-4.jpg
END:VEVENT
BEGIN:VEVENT
DTSTART;TZID=UTC:20250414T090000
DTEND;TZID=UTC:20250414T150000
DTSTAMP:20260425T222704
CREATED:20250313T223913Z
LAST-MODIFIED:20250313T223913Z
UID:4120-1744621200-1744642800@www.wickedgoodtreatsbyelaine.com
SUMMARY:Baystate Noble Hospital
DESCRIPTION:We love supporting our local hospitals and the Volunteer Program at BNH.  We are fully stocked with everything for your Easter shopping list and sweet treat desires.  Come see us\, right off the lobby!
URL:https://www.wickedgoodtreatsbyelaine.com/event/baystate-noble-hospital/
LOCATION:Baystate Noble Hospital\, 115 West Silver Street\, Westfield\, MA\, United States
CATEGORIES:Featured Vendor
ATTACH;FMTTYPE=image/jpeg:https://www.wickedgoodtreatsbyelaine.com/wp-content/uploads/2023/12/IMG_0668.jpeg
END:VEVENT
BEGIN:VEVENT
DTSTART;TZID=UTC:20250411T173000
DTEND;TZID=UTC:20250411T193000
DTSTAMP:20260425T222704
CREATED:20250313T233820Z
LAST-MODIFIED:20250313T233820Z
UID:4137-1744392600-1744399800@www.wickedgoodtreatsbyelaine.com
SUMMARY:Guided Wine and Easter Treats
DESCRIPTION:Enjoy a sommelier-guided Wine & Easter Treats Pairing Experience\, led by Wine Educator Missa Capozzo of Wine Down Events. Join us for an evening of indulgence and education as Missa expertly pairs 5 Hardwick Winery wines with a variety of Easter themed treats by Wicked Good Treats by Elaine. Throughout the event\, you’ll learn the fundamentals of wine and food pairing while savoring incredible flavors and fine wines.
URL:https://www.wickedgoodtreatsbyelaine.com/event/guided-wine-and-easter-treats-2/
LOCATION:Hardwick Winery\, 3305 Greenwich Road\, Hardwick\, MA\, United States
CATEGORIES:Featured Vendor
ATTACH;FMTTYPE=image/jpeg:https://www.wickedgoodtreatsbyelaine.com/wp-content/uploads/2025/03/Easter-collage.jpg
END:VEVENT
BEGIN:VEVENT
DTSTART;TZID=UTC:20250409T173000
DTEND;TZID=UTC:20250409T200000
DTSTAMP:20260425T222704
CREATED:20250313T233143Z
LAST-MODIFIED:20250313T234040Z
UID:4134-1744219800-1744228800@www.wickedgoodtreatsbyelaine.com
SUMMARY:Guided Wine and Easter Treats
DESCRIPTION:Enjoy a sommelier-guided Wine & Easter Treats Pairing Experience\, led by Wine Educator Missa Capozzo of Wine Down Events.  An evening of indulgence and education as Missa expertly pairs 5 Briken Creek Vinyard wines and a variety of Easter themed treats from Wicked Good Treats by Elaine.  Throughout the event\, you’ll learn the fundamentals of wine and food pairing while savoring incredible flavors and fine wines.
URL:https://www.wickedgoodtreatsbyelaine.com/event/guided-wine-and-easter-treats/
LOCATION:Broken Creek Winery\, 614 South Street\, Shrewsbury\, MA\, United States
CATEGORIES:Featured Vendor
ATTACH;FMTTYPE=image/jpeg:https://www.wickedgoodtreatsbyelaine.com/wp-content/uploads/2025/03/Easter-collage.jpg
END:VEVENT
BEGIN:VEVENT
DTSTART;TZID=UTC:20250330T093000
DTEND;TZID=UTC:20250330T130000
DTSTAMP:20260425T222704
CREATED:20250313T220150Z
LAST-MODIFIED:20250313T220810Z
UID:4107-1743327000-1743339600@www.wickedgoodtreatsbyelaine.com
SUMMARY:Maple Breakfast
DESCRIPTION:A local favorite at Hardwick Winery.  Every weekend morning\, the best breakfast buffet is here\, celebrating all things maple.  We are here too with Wicked Good Treats!
URL:https://www.wickedgoodtreatsbyelaine.com/event/maple-breakfast-8/
LOCATION:Hardwick Winery\, 3305 Greenwich Road\, Hardwick\, MA\, United States
CATEGORIES:Featured Vendor
ATTACH;FMTTYPE=image/jpeg:https://www.wickedgoodtreatsbyelaine.com/wp-content/uploads/2023/04/chocolate-eggs.jpg
END:VEVENT
BEGIN:VEVENT
DTSTART;TZID=UTC:20250323T093000
DTEND;TZID=UTC:20250323T130000
DTSTAMP:20260425T222704
CREATED:20250313T215119Z
LAST-MODIFIED:20250313T220747Z
UID:4105-1742722200-1742734800@www.wickedgoodtreatsbyelaine.com
SUMMARY:Maple Breakfast
DESCRIPTION:A local favorite at Hardwick Winery.  Every weekend morning\, the best breakfast buffet is here\, celebrating all things maple.  We are here too with Wicked Good Treats!
URL:https://www.wickedgoodtreatsbyelaine.com/event/maple-breakfast-7/
LOCATION:Hardwick Winery\, 3305 Greenwich Road\, Hardwick\, MA\, United States
CATEGORIES:Featured Vendor
ATTACH;FMTTYPE=image/jpeg:https://www.wickedgoodtreatsbyelaine.com/wp-content/uploads/2017/09/Truffle11.jpg
END:VEVENT
BEGIN:VEVENT
DTSTART;TZID=UTC:20250316T093000
DTEND;TZID=UTC:20250316T130000
DTSTAMP:20260425T222704
CREATED:20250313T214437Z
LAST-MODIFIED:20250313T214510Z
UID:4102-1742117400-1742130000@www.wickedgoodtreatsbyelaine.com
SUMMARY:Maple Breakfast
DESCRIPTION:A local favorite at Hardwick Winery.  Every weekend morning\, the best breakfast buffet is here\, celebrating all things maple.  We are here too with Wicked Good Treats!
URL:https://www.wickedgoodtreatsbyelaine.com/event/maple-breakfast-6/
LOCATION:Hardwick Winery\, 3305 Greenwich Road\, Hardwick\, MA\, United States
CATEGORIES:Featured Vendor
ATTACH;FMTTYPE=image/jpeg:https://www.wickedgoodtreatsbyelaine.com/wp-content/uploads/2020/03/truffle-box-4-2017-scaled.jpg
END:VEVENT
BEGIN:VEVENT
DTSTART;TZID=UTC:20250213T090000
DTEND;TZID=UTC:20250213T153000
DTSTAMP:20260425T222704
CREATED:20250129T000140Z
LAST-MODIFIED:20250129T000140Z
UID:4090-1739437200-1739460600@www.wickedgoodtreatsbyelaine.com
SUMMARY:Chocolate Day at Wing Hospital
DESCRIPTION:One of our favorite venues\, we love supporting our local hospital.  We are stocked with everything you need for the sweetest day ever!
URL:https://www.wickedgoodtreatsbyelaine.com/event/chocolate-day-at-wing-hospital/
LOCATION:Baystate Wing Hospital\, first floor across from the Gift Shop\, 40 Wright Street\, Palmer\, MA
CATEGORIES:Featured Vendor,Holiday
ATTACH;FMTTYPE=image/jpeg:https://www.wickedgoodtreatsbyelaine.com/wp-content/uploads/2024/02/IMG_0846-scaled-e1738108866524.jpeg
END:VEVENT
BEGIN:VEVENT
DTSTART;TZID=UTC:20250212T113000
DTEND;TZID=UTC:20250212T140000
DTSTAMP:20260425T222704
CREATED:20250128T235806Z
LAST-MODIFIED:20250128T235806Z
UID:4088-1739359800-1739368800@www.wickedgoodtreatsbyelaine.com
SUMMARY:Valentine's Shopping Pop Up
DESCRIPTION:Partnering again with Springfield’s own Outside the Box Giftshop.  We will be set up in front of the store with all your Valentine’s needs.
URL:https://www.wickedgoodtreatsbyelaine.com/event/valentines-shopping-pop-up/
LOCATION:Outside the Box Giftshop\, Tower Square - First Floor\, 1500 Main Street\, Springfield\, MA\, 01115\, United States
CATEGORIES:Featured Vendor
ATTACH;FMTTYPE=image/jpeg:https://www.wickedgoodtreatsbyelaine.com/wp-content/uploads/2024/02/IMG_0789-scaled-e1738108603387.jpeg
END:VEVENT
BEGIN:VEVENT
DTSTART;TZID=UTC:20250210T090000
DTEND;TZID=UTC:20250210T150000
DTSTAMP:20260425T222704
CREATED:20250128T235307Z
LAST-MODIFIED:20250128T235307Z
UID:4085-1739178000-1739199600@www.wickedgoodtreatsbyelaine.com
SUMMARY:Valentine's Pop Up
DESCRIPTION:We love being part of the Noble Hospital activities and supporting the volunteer program.  Come see us!
URL:https://www.wickedgoodtreatsbyelaine.com/event/valentines-pop-up/
LOCATION:Baystate Noble Hospital\, 115 West Silver Street\, Westfield\, MA\, United States
CATEGORIES:Featured Vendor
ATTACH;FMTTYPE=image/jpeg:https://www.wickedgoodtreatsbyelaine.com/wp-content/uploads/2023/12/IMG_0662-2-scaled.jpeg
END:VEVENT
BEGIN:VEVENT
DTSTART;TZID=UTC:20241210T113000
DTEND;TZID=UTC:20241210T140000
DTSTAMP:20260425T222704
CREATED:20241023T235957Z
LAST-MODIFIED:20241023T235957Z
UID:4020-1733830200-1733839200@www.wickedgoodtreatsbyelaine.com
SUMMARY:Sweet Shop at Tower Square
DESCRIPTION:It’s fun!  It’s always changing!  It’s where you will find some incredible gifts for the holidays.  Wicked Good Treats is the resident sweets hostess on Tuesdays!  Come see us!
URL:https://www.wickedgoodtreatsbyelaine.com/event/sweet-shop-at-tower-square-5/
LOCATION:Tower Square – Upper Level\, 1500 Main Street\, Springfield\, MA\, 01115\, United States
CATEGORIES:Featured Vendor
ATTACH;FMTTYPE=image/jpeg:https://www.wickedgoodtreatsbyelaine.com/wp-content/uploads/2023/12/IMG_0665-scaled-e1742164728175.jpeg
END:VEVENT
BEGIN:VEVENT
DTSTART;TZID=UTC:20241203T113000
DTEND;TZID=UTC:20241203T140000
DTSTAMP:20260425T222704
CREATED:20241023T235801Z
LAST-MODIFIED:20241023T235801Z
UID:4018-1733225400-1733234400@www.wickedgoodtreatsbyelaine.com
SUMMARY:Sweet Shop at Tower Square
DESCRIPTION:It’s fun!  It’s always changing!  It’s where you will find some incredible gifts for the holidays.  Wicked Good Treats is the resident sweets hostess on Tuesdays!  Come see us!
URL:https://www.wickedgoodtreatsbyelaine.com/event/sweet-shop-at-tower-square-4/
LOCATION:Tower Square – Upper Level\, 1500 Main Street\, Springfield\, MA\, 01115\, United States
CATEGORIES:Featured Vendor
ATTACH;FMTTYPE=image/jpeg:https://www.wickedgoodtreatsbyelaine.com/wp-content/uploads/2020/03/Box-of-caramels-scaled.jpg
END:VEVENT
BEGIN:VEVENT
DTSTART;TZID=UTC:20241126T113000
DTEND;TZID=UTC:20241126T140000
DTSTAMP:20260425T222704
CREATED:20241022T193925Z
LAST-MODIFIED:20241022T193925Z
UID:3994-1732620600-1732629600@www.wickedgoodtreatsbyelaine.com
SUMMARY:Sweet Shop at Tower Square
DESCRIPTION:The chocolate boutique is so much fun as we transition to the December holidays!  Come see us on Tuesdays for a sweet treat and take some home for the family too!
URL:https://www.wickedgoodtreatsbyelaine.com/event/sweet-shop-at-tower-square-3/
LOCATION:Tower Square – Upper Level\, 1500 Main Street\, Springfield\, MA\, 01115\, United States
CATEGORIES:Featured Vendor
ATTACH;FMTTYPE=image/jpeg:https://www.wickedgoodtreatsbyelaine.com/wp-content/uploads/2023/12/IMG_0660.jpeg
END:VEVENT
BEGIN:VEVENT
DTSTART;TZID=UTC:20241121T113000
DTEND;TZID=UTC:20241121T140000
DTSTAMP:20260425T222704
CREATED:20241022T192238Z
LAST-MODIFIED:20241022T192238Z
UID:3990-1732188600-1732197600@www.wickedgoodtreatsbyelaine.com
SUMMARY:Outside the Box Pop Up
DESCRIPTION:Have you ordered your pies\, breads and desserts for Thanksgiving?  We are taking orders with a downtown delivery.  Come see what we have to offer.
URL:https://www.wickedgoodtreatsbyelaine.com/event/outside-the-box-pop-up/
LOCATION:Outside the Box Giftshop\, Tower Square - First Floor\, 1500 Main Street\, Springfield\, MA\, 01115\, United States
CATEGORIES:Featured Vendor
ATTACH;FMTTYPE=image/jpeg:https://www.wickedgoodtreatsbyelaine.com/wp-content/uploads/2023/04/Blueberry-Pie-rotated.jpg
END:VEVENT
BEGIN:VEVENT
DTSTART;TZID=UTC:20241119T090000
DTEND;TZID=UTC:20241119T160000
DTSTAMP:20260425T222704
CREATED:20241022T185629Z
LAST-MODIFIED:20241022T192419Z
UID:3986-1732006800-1732032000@www.wickedgoodtreatsbyelaine.com
SUMMARY:Baystate Wing Hospital Auxiliary
DESCRIPTION:Our monthly visit to support our favorite local hospital.  Come see us and get some sweet treats for the holidays.
URL:https://www.wickedgoodtreatsbyelaine.com/event/baystate-wing-hospital-auxiliary/
LOCATION:Baystate Wing Hospital\, first floor across from the Gift Shop\, 40 Wright Street\, Palmer\, MA
CATEGORIES:Featured Vendor
ATTACH;FMTTYPE=image/jpeg:https://www.wickedgoodtreatsbyelaine.com/wp-content/uploads/2017/09/TurkeyCarmeApple.jpg
END:VEVENT
BEGIN:VEVENT
DTSTART;TZID=UTC:20241112T113000
DTEND;TZID=UTC:20241112T140000
DTSTAMP:20260425T222704
CREATED:20241022T185101Z
LAST-MODIFIED:20241022T185101Z
UID:3981-1731411000-1731420000@www.wickedgoodtreatsbyelaine.com
SUMMARY:Sweet Shop at Tower Square
DESCRIPTION:It’s our weekly chocolate boutique filled with treats and holidays specials.  Come visit us during lunchtime.
URL:https://www.wickedgoodtreatsbyelaine.com/event/sweet-shop-at-tower-square-2/
LOCATION:Tower Square – Upper Level\, 1500 Main Street\, Springfield\, MA\, 01115\, United States
CATEGORIES:Featured Vendor
ATTACH;FMTTYPE=image/jpeg:https://www.wickedgoodtreatsbyelaine.com/wp-content/uploads/2023/04/straw-rhu-pie.jpg
END:VEVENT
BEGIN:VEVENT
DTSTART;TZID=UTC:20241105T113000
DTEND;TZID=UTC:20241105T140000
DTSTAMP:20260425T222704
CREATED:20241021T130816Z
LAST-MODIFIED:20241021T130816Z
UID:3971-1730806200-1730815200@www.wickedgoodtreatsbyelaine.com
SUMMARY:Sweet Shop at Tower Square
DESCRIPTION:It’s the sweetest thing to hit downtown this season!  We are a cooperative enterprise of three independent bakers and sweet makers\, sharing the sweet shop for the holiday season.  New and different sweets every day.  Come down and see us!
URL:https://www.wickedgoodtreatsbyelaine.com/event/sweet-shop-at-tower-square/
LOCATION:Tower Square – Upper Level\, 1500 Main Street\, Springfield\, MA\, 01115\, United States
CATEGORIES:Featured Vendor
ATTACH;FMTTYPE=image/jpeg:https://www.wickedgoodtreatsbyelaine.com/wp-content/uploads/2024/09/Acorns.jpg
END:VEVENT
BEGIN:VEVENT
DTSTART;TZID=UTC:20241029T090000
DTEND;TZID=UTC:20241029T160000
DTSTAMP:20260425T222704
CREATED:20240909T195849Z
LAST-MODIFIED:20240909T195849Z
UID:3895-1730192400-1730217600@www.wickedgoodtreatsbyelaine.com
SUMMARY:Wing Auxiliary Chocolate Day
DESCRIPTION:We support local!  We love our local Wing Hospital Auxiliary and the good work they do to enhance services at Baystate Wing.  Your purchase helps support the Auxiliary.
URL:https://www.wickedgoodtreatsbyelaine.com/event/wing-auxiliary-chocolate-day-4/
LOCATION:Baystate Wing Hospital\, first floor across from the Gift Shop\, 40 Wright Street\, Palmer\, MA
CATEGORIES:Featured Vendor
ATTACH;FMTTYPE=image/jpeg:https://www.wickedgoodtreatsbyelaine.com/wp-content/uploads/2023/09/12-halloween-oreos-rotated-e1753530507755.jpeg
END:VEVENT
BEGIN:VEVENT
DTSTART;TZID=UTC:20241024T110000
DTEND;TZID=UTC:20241024T143000
DTSTAMP:20260425T222704
CREATED:20240909T205016Z
LAST-MODIFIED:20240909T205016Z
UID:3919-1729767600-1729780200@www.wickedgoodtreatsbyelaine.com
SUMMARY:Tower Square Pop Up
DESCRIPTION:We are thrilled to be back at Tower Square to connect with all our friends and customers.  Come see us in the food court to get all your Halloween treats!
URL:https://www.wickedgoodtreatsbyelaine.com/event/tower-square-pop-up/
LOCATION:City Walks Cafe\, Tower Square\, 1500 Main Street\, Springfield\, Massachusetts
CATEGORIES:Featured Vendor
ATTACH;FMTTYPE=image/jpeg:https://www.wickedgoodtreatsbyelaine.com/wp-content/uploads/2023/09/12-halloween-oreos-rotated-e1753530507755.jpeg
END:VEVENT
BEGIN:VEVENT
DTSTART;TZID=UTC:20240820T090000
DTEND;TZID=UTC:20240820T160000
DTSTAMP:20260425T222704
CREATED:20240516T150656Z
LAST-MODIFIED:20240516T150656Z
UID:3824-1724144400-1724169600@www.wickedgoodtreatsbyelaine.com
SUMMARY:Wing Auxiliary Chocolate Day
DESCRIPTION:So much deliciousness to sweeten the day for healthcare workers and the public.  Come get your sweet on!
URL:https://www.wickedgoodtreatsbyelaine.com/event/wing-auxiliary-chocolate-day-2/
LOCATION:Baystate Wing Hospital\, first floor across from the Gift Shop\, 40 Wright Street\, Palmer\, MA
CATEGORIES:Featured Vendor
ATTACH;FMTTYPE=image/jpeg:https://www.wickedgoodtreatsbyelaine.com/wp-content/uploads/2023/12/IMG_0673-scaled.jpeg
END:VEVENT
BEGIN:VEVENT
DTSTART;TZID=UTC:20240723T090000
DTEND;TZID=UTC:20240723T160000
DTSTAMP:20260425T222704
CREATED:20240516T144704Z
LAST-MODIFIED:20240516T144704Z
UID:3814-1721725200-1721750400@www.wickedgoodtreatsbyelaine.com
SUMMARY:Wing Auxiliary Chocolate Day!
DESCRIPTION:One of my favorite venues!  Come shop for chocolates\, caramel apples\, cupcakes\, cookies and more!   We are set up on the first floor\, across from the Auxiliary Gift Shop.
URL:https://www.wickedgoodtreatsbyelaine.com/event/wing-auxiliary-chocolate-day/
LOCATION:Baystate Wing Hospital\, first floor across from the Gift Shop\, 40 Wright Street\, Palmer\, MA
CATEGORIES:Featured Vendor
ATTACH;FMTTYPE=image/jpeg:https://www.wickedgoodtreatsbyelaine.com/wp-content/uploads/2017/09/Truffle10.jpg
END:VEVENT
BEGIN:VEVENT
DTSTART;TZID=UTC:20240330T090000
DTEND;TZID=UTC:20240330T133000
DTSTAMP:20260425T222704
CREATED:20240210T193045Z
LAST-MODIFIED:20240210T193045Z
UID:3702-1711789200-1711805400@www.wickedgoodtreatsbyelaine.com
SUMMARY:Maple Breakfast
DESCRIPTION:
URL:https://www.wickedgoodtreatsbyelaine.com/event/maple-breakfast-5/
LOCATION:Hardwick Winery\, 3305 Greenwich Road\, Hardwick\, MA\, United States
CATEGORIES:Featured Vendor
ATTACH;FMTTYPE=image/jpeg:https://www.wickedgoodtreatsbyelaine.com/wp-content/uploads/2018/03/Hippity-hop-1-scaled.jpg
END:VEVENT
BEGIN:VEVENT
DTSTART;TZID=UTC:20240327T090000
DTEND;TZID=UTC:20240327T160000
DTSTAMP:20260425T222704
CREATED:20240213T124629Z
LAST-MODIFIED:20240213T124629Z
UID:3708-1711530000-1711555200@www.wickedgoodtreatsbyelaine.com
SUMMARY:Wing Auxiliary & Gift Shop
DESCRIPTION:Come and shop for a purpose\, to support our local hospital auxiliary and their programs.  We will be stocked with everything for your Easter holiday celebrations.  We have Easter Baskets filled with handcrafted treats\, truffles and caramels\, caramel apples\, fresh fruit dipped in chocolate\, special breads and pastry\,
URL:https://www.wickedgoodtreatsbyelaine.com/event/wing-auxiliary-gift-shop/
LOCATION:Baystate Wing Hospital\, first floor across from the Gift Shop\, 40 Wright Street\, Palmer\, MA
CATEGORIES:Featured Vendor
ATTACH;FMTTYPE=image/jpeg:https://www.wickedgoodtreatsbyelaine.com/wp-content/uploads/2018/03/Easter-baskets-3-scaled.jpg
END:VEVENT
END:VCALENDAR