BEGIN:VCALENDAR
VERSION:2.0
PRODID:-//Wicked Good Treats - ECPv6.15.20//NONSGML v1.0//EN
CALSCALE:GREGORIAN
METHOD:PUBLISH
X-ORIGINAL-URL:https://www.wickedgoodtreatsbyelaine.com
X-WR-CALDESC:Events for Wicked Good Treats
REFRESH-INTERVAL;VALUE=DURATION:PT1H
X-Robots-Tag:noindex
X-PUBLISHED-TTL:PT1H
BEGIN:VTIMEZONE
TZID:UTC
BEGIN:STANDARD
TZOFFSETFROM:+0000
TZOFFSETTO:+0000
TZNAME:UTC
DTSTART:20250101T000000
END:STANDARD
END:VTIMEZONE
BEGIN:VEVENT
DTSTART;TZID=UTC:20260315T090000
DTEND;TZID=UTC:20260315T130000
DTSTAMP:20260426T041852
CREATED:20260227T163824Z
LAST-MODIFIED:20260227T163824Z
UID:4404-1773565200-1773579600@www.wickedgoodtreatsbyelaine.com
SUMMARY:Maple Breakfast at Hardwick Winery
DESCRIPTION:Stocked with everything you need for Easter.  Come for breakfast\, enjoy the extra shopping opportunities.
URL:https://www.wickedgoodtreatsbyelaine.com/event/maple-breakfast-at-hardwick-winery/
CATEGORIES:Featured Vendor
END:VEVENT
END:VCALENDAR