BEGIN:VCALENDAR
VERSION:2.0
PRODID:-//Wicked Good Treats - ECPv6.15.20//NONSGML v1.0//EN
CALSCALE:GREGORIAN
METHOD:PUBLISH
X-WR-CALNAME:Wicked Good Treats
X-ORIGINAL-URL:https://www.wickedgoodtreatsbyelaine.com
X-WR-CALDESC:Events for Wicked Good Treats
REFRESH-INTERVAL;VALUE=DURATION:PT1H
X-Robots-Tag:noindex
X-PUBLISHED-TTL:PT1H
BEGIN:VTIMEZONE
TZID:UTC
BEGIN:STANDARD
TZOFFSETFROM:+0000
TZOFFSETTO:+0000
TZNAME:UTC
DTSTART:20180101T000000
END:STANDARD
END:VTIMEZONE
BEGIN:VEVENT
DTSTART;TZID=UTC:20190506T090000
DTEND;TZID=UTC:20190506T150000
DTSTAMP:20260420T083813
CREATED:20190414T120526Z
LAST-MODIFIED:20190414T120526Z
UID:2683-1557133200-1557154800@www.wickedgoodtreatsbyelaine.com
SUMMARY:National Nurses Week Event
DESCRIPTION:Its National Nurses Week – celebrate those who take care of us.
URL:https://www.wickedgoodtreatsbyelaine.com/event/national-nurses-week-event/
LOCATION:Baystate Noble Hospital\, 115 West Silver Street\, Westfield\, MA\, United States
CATEGORIES:Featured Vendor
END:VEVENT
BEGIN:VEVENT
DTSTART;VALUE=DATE:20190507
DTEND;VALUE=DATE:20190508
DTSTAMP:20260420T083813
CREATED:20190414T121041Z
LAST-MODIFIED:20190414T121041Z
UID:2686-1557187200-1557273599@www.wickedgoodtreatsbyelaine.com
SUMMARY:Mother's Day Chocolate Event
DESCRIPTION:Mother’s Day is right around the corner and its National Nurses Week.   Get your sweet treats at UConn.
URL:https://www.wickedgoodtreatsbyelaine.com/event/mothers-day-chocolate-event/
LOCATION:Outpatient Pavilion\,UConn Medical Ctr\, Dowling Way\, Farmington\, CT
CATEGORIES:Featured Vendor
END:VEVENT
BEGIN:VEVENT
DTSTART;TZID=UTC:20190514T090000
DTEND;TZID=UTC:20190514T150000
DTSTAMP:20260420T083813
CREATED:20190414T121327Z
LAST-MODIFIED:20190414T121327Z
UID:2690-1557824400-1557846000@www.wickedgoodtreatsbyelaine.com
SUMMARY:Chocolate Day
DESCRIPTION:
URL:https://www.wickedgoodtreatsbyelaine.com/event/chocolate-day/
LOCATION:St. Francis Hospital\, 114 Woodward Street\, Hartford\, Connecticut
CATEGORIES:Featured Vendor
END:VEVENT
BEGIN:VEVENT
DTSTART;VALUE=DATE:20190521
DTEND;VALUE=DATE:20190522
DTSTAMP:20260420T083813
CREATED:20190414T123257Z
LAST-MODIFIED:20190414T123257Z
UID:2711-1558396800-1558483199@www.wickedgoodtreatsbyelaine.com
SUMMARY:Sikorsky Aircraft West Cafe
DESCRIPTION:
URL:https://www.wickedgoodtreatsbyelaine.com/event/sikorsky-aircraft-west-cafe/
LOCATION:Sikorsky Aircraft West Cafe\, 6900 Main Street\, Stratford\, Connecticut\, 06615
CATEGORIES:Featured Vendor
END:VEVENT
BEGIN:VEVENT
DTSTART;VALUE=DATE:20190530
DTEND;VALUE=DATE:20190531
DTSTAMP:20260420T083813
CREATED:20190414T122415Z
LAST-MODIFIED:20190414T122415Z
UID:2703-1559174400-1559260799@www.wickedgoodtreatsbyelaine.com
SUMMARY:Sikorsky Aircraft Far Mill Building A
DESCRIPTION:
URL:https://www.wickedgoodtreatsbyelaine.com/event/sikorsky-aircraft-far-mill-building-a/
LOCATION:Sikorsky Aircraft Far Mill Building A\, 1 Far Mill Crossing\, Stratford\, CT\, 06615
CATEGORIES:Featured Vendor
END:VEVENT
END:VCALENDAR