BEGIN:VCALENDAR
VERSION:2.0
PRODID:-//Wicked Good Treats - ECPv6.15.20//NONSGML v1.0//EN
CALSCALE:GREGORIAN
METHOD:PUBLISH
X-ORIGINAL-URL:https://www.wickedgoodtreatsbyelaine.com
X-WR-CALDESC:Events for Wicked Good Treats
REFRESH-INTERVAL;VALUE=DURATION:PT1H
X-Robots-Tag:noindex
X-PUBLISHED-TTL:PT1H
BEGIN:VTIMEZONE
TZID:UTC
BEGIN:STANDARD
TZOFFSETFROM:+0000
TZOFFSETTO:+0000
TZNAME:UTC
DTSTART:20180101T000000
END:STANDARD
END:VTIMEZONE
BEGIN:VEVENT
DTSTART;TZID=UTC:20190409T090000
DTEND;TZID=UTC:20190409T150000
DTSTAMP:20260420T225810
CREATED:20190306T204429Z
LAST-MODIFIED:20190306T204429Z
UID:2646-1554800400-1554822000@www.wickedgoodtreatsbyelaine.com
SUMMARY:Pre-Easter Candy Event
DESCRIPTION:In collaboration with the Volunteer Services program at Baystate Noble Hospital.
URL:https://www.wickedgoodtreatsbyelaine.com/event/pre-easter-candy-event/
LOCATION:Baystate Noble Hospital\, 115 West Silver Street\, Westfield\, MA\, United States
CATEGORIES:Featured Vendor
END:VEVENT
BEGIN:VEVENT
DTSTART;VALUE=DATE:20190415
DTEND;VALUE=DATE:20190416
DTSTAMP:20260420T225810
CREATED:20190110T173457Z
LAST-MODIFIED:20190306T202509Z
UID:2583-1555286400-1555372799@www.wickedgoodtreatsbyelaine.com
SUMMARY:UConn Medical Center
DESCRIPTION:
URL:https://www.wickedgoodtreatsbyelaine.com/event/uconn-medical-center-3/
LOCATION:Outpatient Pavilion\,UConn Medical Ctr\, Dowling Way\, Farmington\, CT
CATEGORIES:Featured Vendor
END:VEVENT
BEGIN:VEVENT
DTSTART;VALUE=DATE:20190415
DTEND;VALUE=DATE:20190416
DTSTAMP:20260420T225810
CREATED:20190306T204845Z
LAST-MODIFIED:20190306T204845Z
UID:2651-1555286400-1555372799@www.wickedgoodtreatsbyelaine.com
SUMMARY:Easter Candy Day
DESCRIPTION:In collaboration with the Auxiliary and Gift Shop.
URL:https://www.wickedgoodtreatsbyelaine.com/event/easter-candy-day/
LOCATION:Outpatient Pavilion\,UConn Medical Ctr\, Dowling Way\, Farmington\, CT
CATEGORIES:Featured Vendor
END:VEVENT
BEGIN:VEVENT
DTSTART;VALUE=DATE:20190416
DTEND;VALUE=DATE:20190417
DTSTAMP:20260420T225810
CREATED:20190306T205659Z
LAST-MODIFIED:20190306T205659Z
UID:2655-1555372800-1555459199@www.wickedgoodtreatsbyelaine.com
SUMMARY:Easter Candy Event
DESCRIPTION:In collaboration with the Gift Shop.
URL:https://www.wickedgoodtreatsbyelaine.com/event/easter-candy-event/
LOCATION:St. Francis Hospital\, 114 Woodward Street\, Hartford\, Connecticut
CATEGORIES:Featured Vendor
END:VEVENT
END:VCALENDAR