BEGIN:VCALENDAR
VERSION:2.0
PRODID:-//Wicked Good Treats - ECPv6.15.20//NONSGML v1.0//EN
CALSCALE:GREGORIAN
METHOD:PUBLISH
X-ORIGINAL-URL:https://www.wickedgoodtreatsbyelaine.com
X-WR-CALDESC:Events for Wicked Good Treats
REFRESH-INTERVAL;VALUE=DURATION:PT1H
X-Robots-Tag:noindex
X-PUBLISHED-TTL:PT1H
BEGIN:VTIMEZONE
TZID:UTC
BEGIN:STANDARD
TZOFFSETFROM:+0000
TZOFFSETTO:+0000
TZNAME:UTC
DTSTART:20180101T000000
END:STANDARD
END:VTIMEZONE
BEGIN:VEVENT
DTSTART;VALUE=DATE:20190207
DTEND;VALUE=DATE:20190208
DTSTAMP:20260421T133832
CREATED:20190110T173917Z
LAST-MODIFIED:20190110T173917Z
UID:2587-1549497600-1549583999@www.wickedgoodtreatsbyelaine.com
SUMMARY:Pre-Valentine's Event at Baystate Noble Hospital
DESCRIPTION:I’ll be in the main lobby.
URL:https://www.wickedgoodtreatsbyelaine.com/event/pre-valentines-event-at-baystate-noble-hospital/
LOCATION:Baystate Noble Hospital\, 115 West Silver Street\, Westfield\, MA\, United States
CATEGORIES:Featured Vendor
END:VEVENT
BEGIN:VEVENT
DTSTART;VALUE=DATE:20190211
DTEND;VALUE=DATE:20190212
DTSTAMP:20260421T133832
CREATED:20190110T172938Z
LAST-MODIFIED:20190110T173059Z
UID:2578-1549843200-1549929599@www.wickedgoodtreatsbyelaine.com
SUMMARY:UConn Medical Center
DESCRIPTION:
URL:https://www.wickedgoodtreatsbyelaine.com/event/uconn-medical-center/
LOCATION:Main Building – UConn Medical Center\, 263 Farmington Avenue\, Farmington\, CT
CATEGORIES:Featured Vendor
END:VEVENT
BEGIN:VEVENT
DTSTART;VALUE=DATE:20190212
DTEND;VALUE=DATE:20190213
DTSTAMP:20260421T133832
CREATED:20190110T174214Z
LAST-MODIFIED:20190110T174214Z
UID:2589-1549929600-1550015999@www.wickedgoodtreatsbyelaine.com
SUMMARY:Valentine's Chocolate at St. Francis Hospital
DESCRIPTION:
URL:https://www.wickedgoodtreatsbyelaine.com/event/valentines-chocolate-at-st-francis-hospital/
LOCATION:St. Francis Hospital\, 114 Woodward Street\, Hartford\, Connecticut
CATEGORIES:Featured Vendor
END:VEVENT
BEGIN:VEVENT
DTSTART;VALUE=DATE:20190218
DTEND;VALUE=DATE:20190219
DTSTAMP:20260421T133832
CREATED:20190110T173210Z
LAST-MODIFIED:20190110T173210Z
UID:2581-1550448000-1550534399@www.wickedgoodtreatsbyelaine.com
SUMMARY:UConn Medical Center
DESCRIPTION:
URL:https://www.wickedgoodtreatsbyelaine.com/event/uconn-medical-center-2/
LOCATION:Outpatient Pavilion\,UConn Medical Ctr\, Dowling Way\, Farmington\, CT
CATEGORIES:Featured Vendor
END:VEVENT
END:VCALENDAR