BEGIN:VCALENDAR
VERSION:2.0
PRODID:-//Wicked Good Treats - ECPv6.15.20//NONSGML v1.0//EN
CALSCALE:GREGORIAN
METHOD:PUBLISH
X-ORIGINAL-URL:https://www.wickedgoodtreatsbyelaine.com
X-WR-CALDESC:Events for Wicked Good Treats
REFRESH-INTERVAL;VALUE=DURATION:PT1H
X-Robots-Tag:noindex
X-PUBLISHED-TTL:PT1H
BEGIN:VTIMEZONE
TZID:UTC
BEGIN:STANDARD
TZOFFSETFROM:+0000
TZOFFSETTO:+0000
TZNAME:UTC
DTSTART:20250101T000000
END:STANDARD
END:VTIMEZONE
BEGIN:VEVENT
DTSTART;TZID=UTC:20260307T100000
DTEND;TZID=UTC:20260307T140000
DTSTAMP:20260426T044224
CREATED:20260227T162924Z
LAST-MODIFIED:20260227T162924Z
UID:4392-1772877600-1772892000@www.wickedgoodtreatsbyelaine.com
SUMMARY:Farmers Market at Forest Park
DESCRIPTION:Let’s see all the wonderful things at the winter market\, including our own jam\, bread\, pies and of course chocolate.
URL:https://www.wickedgoodtreatsbyelaine.com/event/farmers-market-at-forest-park-16/
LOCATION:Forest Park’s Newly Renovated Monkey House\, Sumner Avenue\, Springfield\, MA\, 01108\, United States
CATEGORIES:Farmers Market
END:VEVENT
END:VCALENDAR