BEGIN:VCALENDAR
VERSION:2.0
PRODID:-//Wicked Good Treats - ECPv6.15.20//NONSGML v1.0//EN
CALSCALE:GREGORIAN
METHOD:PUBLISH
X-WR-CALNAME:Wicked Good Treats
X-ORIGINAL-URL:https://www.wickedgoodtreatsbyelaine.com
X-WR-CALDESC:Events for Wicked Good Treats
REFRESH-INTERVAL;VALUE=DURATION:PT1H
X-Robots-Tag:noindex
X-PUBLISHED-TTL:PT1H
BEGIN:VTIMEZONE
TZID:UTC
BEGIN:STANDARD
TZOFFSETFROM:+0000
TZOFFSETTO:+0000
TZNAME:UTC
DTSTART:20170101T000000
END:STANDARD
END:VTIMEZONE
BEGIN:VEVENT
DTSTART;TZID=UTC:20190519T110000
DTEND;TZID=UTC:20190519T150000
DTSTAMP:20260426T011421
CREATED:20190414T121855Z
LAST-MODIFIED:20190414T121855Z
UID:2698-1558263600-1558278000@www.wickedgoodtreatsbyelaine.com
SUMMARY:Macy's Sip & Scan
DESCRIPTION:Engaged couples!  Come and register at Macy’s and meet some of the nicest wedding vendors.
URL:https://www.wickedgoodtreatsbyelaine.com/event/macys-sip-scan/
LOCATION:Macy’s at the Natick Mall\, 1245 Worcester Road\, Natick\, MA\, 01760\, United States
CATEGORIES:Bridal Show
END:VEVENT
BEGIN:VEVENT
DTSTART;TZID=UTC:20190120T080000
DTEND;TZID=UTC:20190120T170000
DTSTAMP:20260426T011421
CREATED:20181231T214404Z
LAST-MODIFIED:20181231T214404Z
UID:2564-1547971200-1548003600@www.wickedgoodtreatsbyelaine.com
SUMMARY:Macy's Bridal Show
DESCRIPTION:
URL:https://www.wickedgoodtreatsbyelaine.com/event/macys-bridal-show-2/
LOCATION:Macy’s at the Natick Mall\, 1245 Worcester Road\, Natick\, MA\, 01760\, United States
CATEGORIES:Bridal Show
END:VEVENT
BEGIN:VEVENT
DTSTART;VALUE=DATE:20190112
DTEND;VALUE=DATE:20190114
DTSTAMP:20260426T011421
CREATED:20181231T214240Z
LAST-MODIFIED:20181231T214240Z
UID:2561-1547251200-1547423999@www.wickedgoodtreatsbyelaine.com
SUMMARY:Bridal Expo
DESCRIPTION:
URL:https://www.wickedgoodtreatsbyelaine.com/event/bridal-expo/
LOCATION:Better Living Center\, Memorial Drive\, West Springfield\, MA
CATEGORIES:Bridal Show
END:VEVENT
BEGIN:VEVENT
DTSTART;TZID=UTC:20180520T110000
DTEND;TZID=UTC:20180520T140000
DTSTAMP:20260426T011421
CREATED:20180311T202003Z
LAST-MODIFIED:20180311T202003Z
UID:2324-1526814000-1526824800@www.wickedgoodtreatsbyelaine.com
SUMMARY:Macy's Bridal Sip & Scan
DESCRIPTION:This event is open to anyone who is planning a special event\, especially brides and grooms.  Come to Macy’s\, create your registry\, meet some great wedding vendors and get some Wicked Good Treats.
URL:https://www.wickedgoodtreatsbyelaine.com/event/macys-bridal-sip-scan/
LOCATION:Macy’s at the Natick Mall\, 1245 Worcester Road\, Natick\, MA\, 01760\, United States
CATEGORIES:Bridal Show
END:VEVENT
BEGIN:VEVENT
DTSTART;TZID=UTC:20180311T110000
DTEND;TZID=UTC:20180311T140000
DTSTAMP:20260426T011421
CREATED:20180202T220633Z
LAST-MODIFIED:20180202T220633Z
UID:2188-1520766000-1520776800@www.wickedgoodtreatsbyelaine.com
SUMMARY:Macy's Bridal Show
DESCRIPTION:Get registered\, meet some of the region’s best wedding vendors\, and enjoy some sweet deals.
URL:https://www.wickedgoodtreatsbyelaine.com/event/macys-bridal-show/
LOCATION:Macy’s at the Natick Mall\, 1245 Worcester Road\, Natick\, MA\, 01760\, United States
CATEGORIES:Bridal Show
END:VEVENT
BEGIN:VEVENT
DTSTART;TZID=UTC:20180121T110000
DTEND;TZID=UTC:20180121T150000
DTSTAMP:20260426T011421
CREATED:20171226T183251Z
LAST-MODIFIED:20171226T183251Z
UID:2036-1516532400-1516546800@www.wickedgoodtreatsbyelaine.com
SUMMARY:Macy's Brides Sip & Scan
DESCRIPTION:
URL:https://www.wickedgoodtreatsbyelaine.com/event/macys-brides-sip-scan/
LOCATION:Macy’s at the Natick Mall\, 1245 Worcester Road\, Natick\, MA\, 01760\, United States
CATEGORIES:Bridal Show
END:VEVENT
END:VCALENDAR