BEGIN:VCALENDAR
VERSION:2.0
PRODID:-//Wicked Good Treats - ECPv6.15.20//NONSGML v1.0//EN
CALSCALE:GREGORIAN
METHOD:PUBLISH
X-WR-CALNAME:Wicked Good Treats
X-ORIGINAL-URL:https://www.wickedgoodtreatsbyelaine.com
X-WR-CALDESC:Events for Wicked Good Treats
REFRESH-INTERVAL;VALUE=DURATION:PT1H
X-Robots-Tag:noindex
X-PUBLISHED-TTL:PT1H
BEGIN:VTIMEZONE
TZID:UTC
BEGIN:STANDARD
TZOFFSETFROM:+0000
TZOFFSETTO:+0000
TZNAME:UTC
DTSTART:20170101T000000
END:STANDARD
END:VTIMEZONE
BEGIN:VEVENT
DTSTART;TZID=UTC:20180327T110000
DTEND;TZID=UTC:20180327T140000
DTSTAMP:20260421T132428
CREATED:20180117T150835Z
LAST-MODIFIED:20180117T150835Z
UID:2137-1522148400-1522159200@www.wickedgoodtreatsbyelaine.com
SUMMARY:Easter Chocolate Event
DESCRIPTION:Be the Easter Bunny’s helper.  Get all your baskets\, gifts and candy for the sweetest holiday ever.
URL:https://www.wickedgoodtreatsbyelaine.com/event/easter-chocolate-event/
LOCATION:City Walks Cafe\, Tower Square\, 1500 Main Street\, Springfield\, Massachusetts
CATEGORIES:Art/Craft Fair
END:VEVENT
END:VCALENDAR