BEGIN:VCALENDAR
VERSION:2.0
PRODID:-//Wicked Good Treats - ECPv6.15.20//NONSGML v1.0//EN
CALSCALE:GREGORIAN
METHOD:PUBLISH
X-WR-CALNAME:Wicked Good Treats
X-ORIGINAL-URL:https://www.wickedgoodtreatsbyelaine.com
X-WR-CALDESC:Events for Wicked Good Treats
REFRESH-INTERVAL;VALUE=DURATION:PT1H
X-Robots-Tag:noindex
X-PUBLISHED-TTL:PT1H
BEGIN:VTIMEZONE
TZID:UTC
BEGIN:STANDARD
TZOFFSETFROM:+0000
TZOFFSETTO:+0000
TZNAME:UTC
DTSTART:20170101T000000
END:STANDARD
END:VTIMEZONE
BEGIN:VEVENT
DTSTART;TZID=UTC:20180405T170000
DTEND;TZID=UTC:20180405T200000
DTSTAMP:20260421T045806
CREATED:20180223T133100Z
LAST-MODIFIED:20180223T133100Z
UID:2231-1522947600-1522958400@www.wickedgoodtreatsbyelaine.com
SUMMARY:WBOA Night of Comedy
DESCRIPTION:Laughter\, dinner\, networking and Chocolate!  An event not to be missed.
URL:https://www.wickedgoodtreatsbyelaine.com/event/wboa-night-of-comedy/
LOCATION:Log Cabin\, 500 Easthampton Road\, Holyoke\, MA
CATEGORIES:Art/Craft Fair
END:VEVENT
BEGIN:VEVENT
DTSTART;VALUE=DATE:20180426
DTEND;VALUE=DATE:20180428
DTSTAMP:20260421T045806
CREATED:20180305T163805Z
LAST-MODIFIED:20180305T163805Z
UID:2256-1524700800-1524873599@www.wickedgoodtreatsbyelaine.com
SUMMARY:Spring Craft Fair
DESCRIPTION:Celebrate spring with Wicked Good Treats.  We are featuring caramel apples\, chocolate truffles and fresh dipped fruit and berries.
URL:https://www.wickedgoodtreatsbyelaine.com/event/spring-craft-fair/
LOCATION:Umass Memorial Medical School\, 55 Lake Avenue North\, Worcester\, MA\, United States
CATEGORIES:Art/Craft Fair
END:VEVENT
BEGIN:VEVENT
DTSTART;VALUE=DATE:20180428
DTEND;VALUE=DATE:20180429
DTSTAMP:20260421T045806
CREATED:20180412T122934Z
LAST-MODIFIED:20180412T122934Z
UID:2357-1524873600-1524959999@www.wickedgoodtreatsbyelaine.com
SUMMARY:Wild Woman Conference
DESCRIPTION:
URL:https://www.wickedgoodtreatsbyelaine.com/event/wild-woman-conference/
LOCATION:Best Western Hotel\, 201 Washington Avenue\, North Haven\, Connecticut
CATEGORIES:Art/Craft Fair,Educational Event
END:VEVENT
END:VCALENDAR