BEGIN:VCALENDAR
VERSION:2.0
PRODID:-//Wicked Good Treats - ECPv6.15.20//NONSGML v1.0//EN
CALSCALE:GREGORIAN
METHOD:PUBLISH
X-WR-CALNAME:Wicked Good Treats
X-ORIGINAL-URL:https://www.wickedgoodtreatsbyelaine.com
X-WR-CALDESC:Events for Wicked Good Treats
REFRESH-INTERVAL;VALUE=DURATION:PT1H
X-Robots-Tag:noindex
X-PUBLISHED-TTL:PT1H
BEGIN:VTIMEZONE
TZID:UTC
BEGIN:STANDARD
TZOFFSETFROM:+0000
TZOFFSETTO:+0000
TZNAME:UTC
DTSTART:20170101T000000
END:STANDARD
END:VTIMEZONE
BEGIN:VEVENT
DTSTART;TZID=UTC:20180816T113000
DTEND;TZID=UTC:20180816T133000
DTSTAMP:20260420T110813
CREATED:20180710T175323Z
LAST-MODIFIED:20180710T175323Z
UID:2466-1534419000-1534426200@www.wickedgoodtreatsbyelaine.com
SUMMARY:Downtown Concert & Lunch
DESCRIPTION:We’ll be there with desserts.
URL:https://www.wickedgoodtreatsbyelaine.com/event/downtown-concert-lunch-2/
LOCATION:1550 Main Street\, Plaza facing Main Street\, Springfield\, MA\, United States
CATEGORIES:Featured Vendor
END:VEVENT
END:VCALENDAR