BEGIN:VCALENDAR
VERSION:2.0
PRODID:-//Wicked Good Treats - ECPv6.15.20//NONSGML v1.0//EN
CALSCALE:GREGORIAN
METHOD:PUBLISH
X-WR-CALNAME:Wicked Good Treats
X-ORIGINAL-URL:https://www.wickedgoodtreatsbyelaine.com
X-WR-CALDESC:Events for Wicked Good Treats
REFRESH-INTERVAL;VALUE=DURATION:PT1H
X-Robots-Tag:noindex
X-PUBLISHED-TTL:PT1H
BEGIN:VTIMEZONE
TZID:UTC
BEGIN:STANDARD
TZOFFSETFROM:+0000
TZOFFSETTO:+0000
TZNAME:UTC
DTSTART:20170101T000000
END:STANDARD
END:VTIMEZONE
BEGIN:VEVENT
DTSTART;TZID=UTC:20180810T113000
DTEND;TZID=UTC:20180810T150000
DTSTAMP:20260419T220258
CREATED:20180710T175529Z
LAST-MODIFIED:20180710T175529Z
UID:2468-1533900600-1533913200@www.wickedgoodtreatsbyelaine.com
SUMMARY:Downtown Farmers Market
DESCRIPTION:We’ll be there with Wicked Good Desserts!
URL:https://www.wickedgoodtreatsbyelaine.com/event/downtown-farmers-market-2/
LOCATION:Downtown Market\, Corner or Main & Bridge Streets\, Springfield\, MA\, United States
CATEGORIES:Farmers Market
END:VEVENT
END:VCALENDAR