BEGIN:VCALENDAR
VERSION:2.0
PRODID:-//Wicked Good Treats - ECPv6.15.20//NONSGML v1.0//EN
CALSCALE:GREGORIAN
METHOD:PUBLISH
X-ORIGINAL-URL:https://www.wickedgoodtreatsbyelaine.com
X-WR-CALDESC:Events for Wicked Good Treats
REFRESH-INTERVAL;VALUE=DURATION:PT1H
X-Robots-Tag:noindex
X-PUBLISHED-TTL:PT1H
BEGIN:VTIMEZONE
TZID:UTC
BEGIN:STANDARD
TZOFFSETFROM:+0000
TZOFFSETTO:+0000
TZNAME:UTC
DTSTART:20170101T000000
END:STANDARD
END:VTIMEZONE
BEGIN:VEVENT
DTSTART;TZID=UTC:20180719T113000
DTEND;TZID=UTC:20180719T133000
DTSTAMP:20260420T024326
CREATED:20180710T172308Z
LAST-MODIFIED:20180710T172518Z
UID:2452-1531999800-1532007000@www.wickedgoodtreatsbyelaine.com
SUMMARY:1550 Main Street Lunchtime Concert
DESCRIPTION:Come downtown to the 1550 Plaza for lunch\, a concert and wicked good desserts.  We’ll be there with: \nChocolate Cupcakes\nChocolate Chip Cookies\nCaramelitas\nCherry Sour Cream Squares\nGluten Free Brownies\nChocolate Dipped Strawberries\nRaspberry Coins with Chocolate
URL:https://www.wickedgoodtreatsbyelaine.com/event/1550-main-street-lunchtime-concert/
LOCATION:1550 Main Street\, Plaza facing Main Street\, Springfield\, MA\, United States
CATEGORIES:Featured Vendor
END:VEVENT
END:VCALENDAR