BEGIN:VCALENDAR
VERSION:2.0
PRODID:-//Wicked Good Treats - ECPv6.15.20//NONSGML v1.0//EN
CALSCALE:GREGORIAN
METHOD:PUBLISH
X-ORIGINAL-URL:https://www.wickedgoodtreatsbyelaine.com
X-WR-CALDESC:Events for Wicked Good Treats
REFRESH-INTERVAL;VALUE=DURATION:PT1H
X-Robots-Tag:noindex
X-PUBLISHED-TTL:PT1H
BEGIN:VTIMEZONE
TZID:UTC
BEGIN:STANDARD
TZOFFSETFROM:+0000
TZOFFSETTO:+0000
TZNAME:UTC
DTSTART:20170101T000000
END:STANDARD
END:VTIMEZONE
BEGIN:VEVENT
DTSTART;VALUE=DATE:20180619
DTEND;VALUE=DATE:20180620
DTSTAMP:20260420T081858
CREATED:20180604T230811Z
LAST-MODIFIED:20180604T230811Z
UID:2419-1529366400-1529452799@www.wickedgoodtreatsbyelaine.com
SUMMARY:Addison Corporate Center
DESCRIPTION:
URL:https://www.wickedgoodtreatsbyelaine.com/event/addison-corporate-center/
LOCATION:Addison Corporate Center\, 175 Addison Road\, Windsor\, C
CATEGORIES:Featured Vendor
END:VEVENT
END:VCALENDAR