BEGIN:VCALENDAR
VERSION:2.0
PRODID:-//Wicked Good Treats - ECPv6.15.20//NONSGML v1.0//EN
CALSCALE:GREGORIAN
METHOD:PUBLISH
X-WR-CALNAME:Wicked Good Treats
X-ORIGINAL-URL:https://www.wickedgoodtreatsbyelaine.com
X-WR-CALDESC:Events for Wicked Good Treats
REFRESH-INTERVAL;VALUE=DURATION:PT1H
X-Robots-Tag:noindex
X-PUBLISHED-TTL:PT1H
BEGIN:VTIMEZONE
TZID:UTC
BEGIN:STANDARD
TZOFFSETFROM:+0000
TZOFFSETTO:+0000
TZNAME:UTC
DTSTART:20170101T000000
END:STANDARD
END:VTIMEZONE
BEGIN:VEVENT
DTSTART;TZID=UTC:20180508T100000
DTEND;TZID=UTC:20180508T140000
DTSTAMP:20260420T184736
CREATED:20180320T140845Z
LAST-MODIFIED:20180320T140845Z
UID:2339-1525773600-1525788000@www.wickedgoodtreatsbyelaine.com
SUMMARY:Johnson Memorial Hospital
DESCRIPTION:All your sweet needs for Mother’s Day gift giving.
URL:https://www.wickedgoodtreatsbyelaine.com/event/johnson-memorial-hospital/
LOCATION:Johnson Memorial Hospital\, 201 Chestnut Hill Road\, Stafford Springs\, Connecticut
CATEGORIES:Featured Vendor
END:VEVENT
END:VCALENDAR