BEGIN:VCALENDAR
VERSION:2.0
PRODID:-//Wicked Good Treats - ECPv6.15.20//NONSGML v1.0//EN
CALSCALE:GREGORIAN
METHOD:PUBLISH
X-ORIGINAL-URL:https://www.wickedgoodtreatsbyelaine.com
X-WR-CALDESC:Events for Wicked Good Treats
REFRESH-INTERVAL;VALUE=DURATION:PT1H
X-Robots-Tag:noindex
X-PUBLISHED-TTL:PT1H
BEGIN:VTIMEZONE
TZID:UTC
BEGIN:STANDARD
TZOFFSETFROM:+0000
TZOFFSETTO:+0000
TZNAME:UTC
DTSTART:20170101T000000
END:STANDARD
END:VTIMEZONE
BEGIN:VEVENT
DTSTART;VALUE=DATE:20180506
DTEND;VALUE=DATE:20180507
DTSTAMP:20260420T083831
CREATED:20180305T165710Z
LAST-MODIFIED:20180305T165710Z
UID:2273-1525564800-1525651199@www.wickedgoodtreatsbyelaine.com
SUMMARY:National Nurses Day
DESCRIPTION:The perfect reason to bring some Wicked Good Treats to your favorite nurse.
URL:https://www.wickedgoodtreatsbyelaine.com/event/national-nurses-day/
END:VEVENT
END:VCALENDAR