BEGIN:VCALENDAR
VERSION:2.0
PRODID:-//Wicked Good Treats - ECPv6.15.20//NONSGML v1.0//EN
CALSCALE:GREGORIAN
METHOD:PUBLISH
X-WR-CALNAME:Wicked Good Treats
X-ORIGINAL-URL:https://www.wickedgoodtreatsbyelaine.com
X-WR-CALDESC:Events for Wicked Good Treats
REFRESH-INTERVAL;VALUE=DURATION:PT1H
X-Robots-Tag:noindex
X-PUBLISHED-TTL:PT1H
BEGIN:VTIMEZONE
TZID:UTC
BEGIN:STANDARD
TZOFFSETFROM:+0000
TZOFFSETTO:+0000
TZNAME:UTC
DTSTART:20170101T000000
END:STANDARD
END:VTIMEZONE
BEGIN:VEVENT
DTSTART;VALUE=DATE:20180419
DTEND;VALUE=DATE:20180420
DTSTAMP:20260420T154947
CREATED:20180320T135750Z
LAST-MODIFIED:20180320T135750Z
UID:2334-1524096000-1524182399@www.wickedgoodtreatsbyelaine.com
SUMMARY:Greater Hartford Women's Conference
DESCRIPTION:
URL:https://www.wickedgoodtreatsbyelaine.com/event/greater-hartford-womens-conference/
LOCATION:Maneely’s Banquet Hall\, 65 Rye Street\, South Windsor\, Connecticut
CATEGORIES:Educational Event
END:VEVENT
END:VCALENDAR