BEGIN:VCALENDAR
VERSION:2.0
PRODID:-//Wicked Good Treats - ECPv6.15.20//NONSGML v1.0//EN
CALSCALE:GREGORIAN
METHOD:PUBLISH
X-WR-CALNAME:Wicked Good Treats
X-ORIGINAL-URL:https://www.wickedgoodtreatsbyelaine.com
X-WR-CALDESC:Events for Wicked Good Treats
REFRESH-INTERVAL;VALUE=DURATION:PT1H
X-Robots-Tag:noindex
X-PUBLISHED-TTL:PT1H
BEGIN:VTIMEZONE
TZID:UTC
BEGIN:STANDARD
TZOFFSETFROM:+0000
TZOFFSETTO:+0000
TZNAME:UTC
DTSTART:20170101T000000
END:STANDARD
END:VTIMEZONE
BEGIN:VEVENT
DTSTART;TZID=UTC:20180329T180000
DTEND;TZID=UTC:20180329T210000
DTSTAMP:20260422T121805
CREATED:20180223T132552Z
LAST-MODIFIED:20180223T132632Z
UID:2227-1522346400-1522357200@www.wickedgoodtreatsbyelaine.com
SUMMARY:Thursday Night Therapy
DESCRIPTION:Enjoy some shopping therapy\, wine and fun at the Agawam Jr. Women’s Shopping Night.  Just in time for Easter – lots of baskets and goodies from Wicked Good Treats.
URL:https://www.wickedgoodtreatsbyelaine.com/event/thursday-night-therapy/
LOCATION:Storrowton Carriage House\, Big E Fairgrounds\, 1305 Memorial Drive\, West Springfield\, MA
CATEGORIES:Art/Craft Fair
END:VEVENT
END:VCALENDAR