BEGIN:VCALENDAR
VERSION:2.0
PRODID:-//Wicked Good Treats - ECPv6.15.20//NONSGML v1.0//EN
CALSCALE:GREGORIAN
METHOD:PUBLISH
X-WR-CALNAME:Wicked Good Treats
X-ORIGINAL-URL:https://www.wickedgoodtreatsbyelaine.com
X-WR-CALDESC:Events for Wicked Good Treats
REFRESH-INTERVAL;VALUE=DURATION:PT1H
X-Robots-Tag:noindex
X-PUBLISHED-TTL:PT1H
BEGIN:VTIMEZONE
TZID:UTC
BEGIN:STANDARD
TZOFFSETFROM:+0000
TZOFFSETTO:+0000
TZNAME:UTC
DTSTART:20170101T000000
END:STANDARD
END:VTIMEZONE
BEGIN:VEVENT
DTSTART;TZID=UTC:20180222T110000
DTEND;TZID=UTC:20180222T140000
DTSTAMP:20260422T134759
CREATED:20180108T225532Z
LAST-MODIFIED:20180108T230136Z
UID:2106-1519297200-1519308000@www.wickedgoodtreatsbyelaine.com
SUMMARY:Soul Food & Jazz Luncheon
DESCRIPTION:What goes great with Jazz?  Chocolate of course.  Stop by for some chocolate treats.
URL:https://www.wickedgoodtreatsbyelaine.com/event/soul-food-jazz-luncheon-2/
LOCATION:Springfield Technical Community College\, Scibelli Hall Gymnasium\, Springfield\, MA
CATEGORIES:Art/Craft Fair,Educational Event
END:VEVENT
END:VCALENDAR