BEGIN:VCALENDAR
VERSION:2.0
PRODID:-//Wicked Good Treats - ECPv6.15.20//NONSGML v1.0//EN
CALSCALE:GREGORIAN
METHOD:PUBLISH
X-ORIGINAL-URL:https://www.wickedgoodtreatsbyelaine.com
X-WR-CALDESC:Events for Wicked Good Treats
REFRESH-INTERVAL;VALUE=DURATION:PT1H
X-Robots-Tag:noindex
X-PUBLISHED-TTL:PT1H
BEGIN:VTIMEZONE
TZID:UTC
BEGIN:STANDARD
TZOFFSETFROM:+0000
TZOFFSETTO:+0000
TZNAME:UTC
DTSTART:20170101T000000
END:STANDARD
END:VTIMEZONE
BEGIN:VEVENT
DTSTART;TZID=UTC:20180206T130000
DTEND;TZID=UTC:20180206T150000
DTSTAMP:20260422T134930
CREATED:20180108T220640Z
LAST-MODIFIED:20180108T220640Z
UID:2078-1517922000-1517929200@www.wickedgoodtreatsbyelaine.com
SUMMARY:Bluebird Estates Chocolate Day
DESCRIPTION:We’ll be featuring Valentine’s Day gifts and treats.
URL:https://www.wickedgoodtreatsbyelaine.com/event/bluebird-estates-chocolate-day/
LOCATION:Bluebird Estates\, 1 Apple Blossom Lane\, East Longmeadow\, MA
END:VEVENT
END:VCALENDAR